BEGIN:VCALENDAR
VERSION:2.0
PRODID:-//Scouts de l&#039;Unité Saint-Etienne de Waha - ECPv6.0.6.2//NONSGML v1.0//EN
CALSCALE:GREGORIAN
METHOD:PUBLISH
X-WR-CALNAME:Scouts de l&#039;Unité Saint-Etienne de Waha
X-ORIGINAL-URL:https://scoutwaha.marche.be
X-WR-CALDESC:Events for Scouts de l&#039;Unité Saint-Etienne de Waha
REFRESH-INTERVAL;VALUE=DURATION:PT1H
X-Robots-Tag:noindex
X-PUBLISHED-TTL:PT1H
BEGIN:VTIMEZONE
TZID:Europe/Brussels
BEGIN:DAYLIGHT
TZOFFSETFROM:+0100
TZOFFSETTO:+0200
TZNAME:CEST
DTSTART:20230326T010000
END:DAYLIGHT
BEGIN:STANDARD
TZOFFSETFROM:+0200
TZOFFSETTO:+0100
TZNAME:CET
DTSTART:20231029T010000
END:STANDARD
END:VTIMEZONE
BEGIN:VEVENT
DTSTART;TZID=Europe/Brussels:20231027T190000
DTEND;TZID=Europe/Brussels:20231029T100000
DTSTAMP:20260426T060448
CREATED:20230822T195201Z
LAST-MODIFIED:20231023T160317Z
UID:561-1698433200-1698573600@scoutwaha.marche.be
SUMMARY:Hike de branches
DESCRIPTION:1 nuitée avec les animateurs… \nBaladins et louveteaux \n\nRDV local 27/10 à 18h30 jusqu’au lendemain 17h\n10€/ enfants\n\nPensez couvertures et sacs couchage + déguisement \nInscription: 0484/ 35 73 16 (bala) – 0470 60 39 24 (Louveteaux) \n  \nTROUPE: \n\nRDV 28/10 à 9h jusqu’au 29/10 11h\n\nInscription au 0497/ 16 50 39 \nAttention – date par branche différentes \nMatériel à prévoir: \n\nPyjama\nLit de camp + sac de couchage\nTenue de rechange\nNécessaire toilette\nSac à dos\, gourde\, …\n\n 
URL:https://scoutwaha.marche.be/event/hike-de-branches/
LOCATION:Luxembourg
END:VEVENT
END:VCALENDAR