BEGIN:VCALENDAR
VERSION:2.0
PRODID:-//Scouts de l&#039;Unité Saint-Etienne de Waha - ECPv6.0.6.2//NONSGML v1.0//EN
CALSCALE:GREGORIAN
METHOD:PUBLISH
X-ORIGINAL-URL:https://scoutwaha.marche.be
X-WR-CALDESC:Events for Scouts de l&#039;Unité Saint-Etienne de Waha
REFRESH-INTERVAL;VALUE=DURATION:PT1H
X-Robots-Tag:noindex
X-PUBLISHED-TTL:PT1H
BEGIN:VTIMEZONE
TZID:Europe/Brussels
BEGIN:DAYLIGHT
TZOFFSETFROM:+0100
TZOFFSETTO:+0200
TZNAME:CEST
DTSTART:20240331T010000
END:DAYLIGHT
BEGIN:STANDARD
TZOFFSETFROM:+0200
TZOFFSETTO:+0100
TZNAME:CET
DTSTART:20241027T010000
END:STANDARD
END:VTIMEZONE
BEGIN:VEVENT
DTSTART;TZID=Europe/Brussels:20240713T080000
DTEND;TZID=Europe/Brussels:20240727T170000
DTSTAMP:20260425T134236
CREATED:20230822T200919Z
LAST-MODIFIED:20240508T203610Z
UID:598-1720857600-1722099600@scoutwaha.marche.be
SUMMARY:CAMP été 2024
DESCRIPTION:Troupe : 13 au 27 juillet \nMeute: 15 au 24 juillet \nBaladin: 15 au 21juillet \n21 juillet – Journée des parents
URL:https://scoutwaha.marche.be/event/camp-ete-2024/
LOCATION:Luxembourg
END:VEVENT
END:VCALENDAR