BEGIN:VCALENDAR
VERSION:2.0
PRODID:-//Scouts de l&#039;Unité Saint-Etienne de Waha - ECPv6.0.6.2//NONSGML v1.0//EN
CALSCALE:GREGORIAN
METHOD:PUBLISH
X-ORIGINAL-URL:https://scoutwaha.marche.be
X-WR-CALDESC:Events for Scouts de l&#039;Unité Saint-Etienne de Waha
REFRESH-INTERVAL;VALUE=DURATION:PT1H
X-Robots-Tag:noindex
X-PUBLISHED-TTL:PT1H
BEGIN:VTIMEZONE
TZID:Europe/Brussels
BEGIN:DAYLIGHT
TZOFFSETFROM:+0100
TZOFFSETTO:+0200
TZNAME:CEST
DTSTART:20240331T010000
END:DAYLIGHT
BEGIN:STANDARD
TZOFFSETFROM:+0200
TZOFFSETTO:+0100
TZNAME:CET
DTSTART:20241027T010000
END:STANDARD
END:VTIMEZONE
BEGIN:VEVENT
DTSTART;TZID=Europe/Brussels:20241026T090000
DTEND;TZID=Europe/Brussels:20241027T110000
DTSTAMP:20260423T034121
CREATED:20220824T123458Z
LAST-MODIFIED:20240827T053458Z
UID:468-1729933200-1730026800@scoutwaha.marche.be
SUMMARY:Hike Troupe
DESCRIPTION:Infos à venir
URL:https://scoutwaha.marche.be/event/hike-troupe-3/
LOCATION:Waha\, Place de l'Eglise\, 10\, Waha\, Luxembourg\, 6900\, Belgium
END:VEVENT
END:VCALENDAR