BEGIN:VCALENDAR
VERSION:2.0
PRODID:-//Scouts de l&#039;Unité Saint-Etienne de Waha - ECPv6.0.6.2//NONSGML v1.0//EN
CALSCALE:GREGORIAN
METHOD:PUBLISH
X-WR-CALNAME:Scouts de l&#039;Unité Saint-Etienne de Waha
X-ORIGINAL-URL:https://scoutwaha.marche.be
X-WR-CALDESC:Events for Scouts de l&#039;Unité Saint-Etienne de Waha
REFRESH-INTERVAL;VALUE=DURATION:PT1H
X-Robots-Tag:noindex
X-PUBLISHED-TTL:PT1H
BEGIN:VTIMEZONE
TZID:Europe/Brussels
BEGIN:DAYLIGHT
TZOFFSETFROM:+0100
TZOFFSETTO:+0200
TZNAME:CEST
DTSTART:20190331T010000
END:DAYLIGHT
BEGIN:STANDARD
TZOFFSETFROM:+0200
TZOFFSETTO:+0100
TZNAME:CET
DTSTART:20191027T010000
END:STANDARD
BEGIN:DAYLIGHT
TZOFFSETFROM:+0100
TZOFFSETTO:+0200
TZNAME:CEST
DTSTART:20200329T010000
END:DAYLIGHT
BEGIN:STANDARD
TZOFFSETFROM:+0200
TZOFFSETTO:+0100
TZNAME:CET
DTSTART:20201025T010000
END:STANDARD
END:VTIMEZONE
BEGIN:VEVENT
DTSTART;TZID=Europe/Brussels:20201226T140000
DTEND;TZID=Europe/Brussels:20201226T170000
DTSTAMP:20260422T040812
CREATED:20201202T072754Z
LAST-MODIFIED:20201202T072754Z
UID:286-1608991200-1609002000@scoutwaha.marche.be
SUMMARY:Dernière réunion 2020
DESCRIPTION:La réunion de ce samedi est donc programmée de 14h à 17h suivant le respect des mesures suivantes :\n– Accueil des enfants de 13H45 à 14h10 à l’entrée du chemin : chaque enfant sera dirigé vers les animateurs de sa branche\,\n– Port du masque obligatoire pour les plus de 12 ans\,\n– Maintien des distances de min. 1\,5m entre chaque groupe familial\,
URL:https://scoutwaha.marche.be/event/derniere-reunion-2020/
END:VEVENT
BEGIN:VEVENT
DTSTART;TZID=Europe/Brussels:20201205T140000
DTEND;TZID=Europe/Brussels:20201205T170000
DTSTAMP:20260422T040812
CREATED:20201202T072714Z
LAST-MODIFIED:20201202T072714Z
UID:284-1607176800-1607187600@scoutwaha.marche.be
SUMMARY:Réunion Saint Nicolas - Uniquement Baladin et Meute
DESCRIPTION:La réunion de ce samedi est programmée de 14h à 17h suivant le respect des mesures suivantes :\n– Accueil des enfants de 13H45 à 14h10 à l’entrée du chemin : chaque enfant sera dirigé vers les animateurs de sa branche\,\n– Port du masque obligatoire pour les plus de 12 ans\,\n– Maintien des distances de min. 1\,5m entre chaque groupe familial\,
URL:https://scoutwaha.marche.be/event/reunion-saint-nicolas-uniquement-baladin-et-meute/
END:VEVENT
BEGIN:VEVENT
DTSTART;TZID=Europe/Brussels:20201031T140000
DTEND;TZID=Europe/Brussels:20201031T170000
DTSTAMP:20260422T040812
CREATED:20200914T215147Z
LAST-MODIFIED:20200914T215147Z
UID:265-1604152800-1604163600@scoutwaha.marche.be
SUMMARY:Réunion
DESCRIPTION:14h à 17h Animations divers Goûter
URL:https://scoutwaha.marche.be/event/reunion-13/
END:VEVENT
BEGIN:VEVENT
DTSTART;TZID=Europe/Brussels:20201031T100000
DTEND;TZID=Europe/Brussels:20201101T100000
DTSTAMP:20260422T040812
CREATED:20200927T202229Z
LAST-MODIFIED:20200927T202234Z
UID:278-1604138400-1604224800@scoutwaha.marche.be
SUMMARY:Hike baladin
DESCRIPTION:RDV au local le samedi à 10h \nPrévoir pique-nique \nRetour le dimanche à 10h
URL:https://scoutwaha.marche.be/event/hike-baladin-2/
END:VEVENT
BEGIN:VEVENT
DTSTART;TZID=Europe/Brussels:20201017T140000
DTEND;TZID=Europe/Brussels:20201017T170000
DTSTAMP:20260422T040812
CREATED:20200914T215043Z
LAST-MODIFIED:20200914T215043Z
UID:263-1602943200-1602954000@scoutwaha.marche.be
SUMMARY:Réunion
DESCRIPTION:14h à 17h Animations divers Goûter
URL:https://scoutwaha.marche.be/event/reunion-12/
LOCATION:Waha\, Place de l'Eglise\, 10\, Waha\, Luxembourg\, 6900\, Belgium
END:VEVENT
BEGIN:VEVENT
DTSTART;TZID=Europe/Brussels:20201017T090000
DTEND;TZID=Europe/Brussels:20201018T110000
DTSTAMP:20260422T040812
CREATED:20200927T201736Z
LAST-MODIFIED:20200927T201736Z
UID:273-1602925200-1603018800@scoutwaha.marche.be
SUMMARY:Hike Meute
DESCRIPTION:Du samedi 9h au dimanche 11h \nRDV au local\, prévoir pique-nique le midi \n 
URL:https://scoutwaha.marche.be/event/hike-meute/
LOCATION:Waha\, Place de l'Eglise\, 10\, Waha\, Luxembourg\, 6900\, Belgium
END:VEVENT
BEGIN:VEVENT
DTSTART;TZID=Europe/Brussels:20201003T140000
DTEND;TZID=Europe/Brussels:20201003T170000
DTSTAMP:20260422T040812
CREATED:20200914T214729Z
LAST-MODIFIED:20200914T214954Z
UID:261-1601733600-1601744400@scoutwaha.marche.be
SUMMARY:Réunion
DESCRIPTION:14h à 17h Animations divers Goûter
URL:https://scoutwaha.marche.be/event/reunion-11/
END:VEVENT
BEGIN:VEVENT
DTSTART;TZID=Europe/Brussels:20201003T100000
DTEND;TZID=Europe/Brussels:20201004T100000
DTSTAMP:20260422T040812
CREATED:20200927T201614Z
LAST-MODIFIED:20200927T201614Z
UID:271-1601719200-1601805600@scoutwaha.marche.be
SUMMARY:Hike troupe et staff
DESCRIPTION:RDV à 10h au local \nPrévoir pique-nique pour le midi. \nRetour le dimanche à 10h \n 
URL:https://scoutwaha.marche.be/event/hike-troupe-et-staff/
LOCATION:Waha\, Place de l'Eglise\, 10\, Waha\, Luxembourg\, 6900\, Belgium
END:VEVENT
BEGIN:VEVENT
DTSTART;TZID=Europe/Brussels:20200921T080000
DTEND;TZID=Europe/Brussels:20200921T120000
DTSTAMP:20260422T040812
CREATED:20200914T215252Z
LAST-MODIFIED:20200914T215252Z
UID:267-1600675200-1600689600@scoutwaha.marche.be
SUMMARY:Clôture des commandes matériel
DESCRIPTION:https://docs.google.com/forms/d/e/1FAIpQLSdmsQVdmzm-yiqZf6Z8RDeA8hfMkpEf43DuRs-FgVWcL6loLg/viewform?usp=pp_url \n 
URL:https://scoutwaha.marche.be/event/cloture-des-commandes-materiel/
END:VEVENT
BEGIN:VEVENT
DTSTART;TZID=Europe/Brussels:20200919T140000
DTEND;TZID=Europe/Brussels:20200919T170000
DTSTAMP:20260422T040812
CREATED:20200914T214603Z
LAST-MODIFIED:20200914T214603Z
UID:259-1600524000-1600534800@scoutwaha.marche.be
SUMMARY:Réunion
DESCRIPTION:14h à 17h Animations divers Goûter
URL:https://scoutwaha.marche.be/event/reunion-10/
LOCATION:Waha\, Place de l'Eglise\, 10\, Waha\, Luxembourg\, 6900\, Belgium
END:VEVENT
BEGIN:VEVENT
DTSTART;TZID=Europe/Brussels:20200811T080000
DTEND;TZID=Europe/Brussels:20200814T170000
DTSTAMP:20260422T040812
CREATED:20200111T131444Z
LAST-MODIFIED:20200526T094633Z
UID:231-1597132800-1597424400@scoutwaha.marche.be
SUMMARY:Camp baladin
DESCRIPTION:Un mini camp (ou possibilité de retour au domicile journlièrement) du 11\nau 14 aout au local au prix de 50 Euros
URL:https://scoutwaha.marche.be/event/camp-baladin/
LOCATION:Waha\, Place de l'Eglise\, 10\, Waha\, Luxembourg\, 6900\, Belgium
END:VEVENT
BEGIN:VEVENT
DTSTART;TZID=Europe/Brussels:20200806T080000
DTEND;TZID=Europe/Brussels:20200810T170000
DTSTAMP:20260422T040812
CREATED:20200111T131302Z
LAST-MODIFIED:20200526T094755Z
UID:229-1596700800-1597078800@scoutwaha.marche.be
SUMMARY:Camp Meute
DESCRIPTION:Un mini camp (ou possibilité de retour au domicile journalièrement) du 6 au 10 aout\nau local au prix de 60 euros.
URL:https://scoutwaha.marche.be/event/camp-meute/
LOCATION:Waha\, Place de l'Eglise\, 10\, Waha\, Luxembourg\, 6900\, Belgium
END:VEVENT
BEGIN:VEVENT
DTSTART;TZID=Europe/Brussels:20200801T080000
DTEND;TZID=Europe/Brussels:20200805T170000
DTSTAMP:20260422T040812
CREATED:20200111T131125Z
LAST-MODIFIED:20200526T095029Z
UID:227-1596268800-1596646800@scoutwaha.marche.be
SUMMARY:Camp troupe
DESCRIPTION:Un mini camp (ou possibilité de retour au domicile journalièrement) du 1 au 5\naout au local au prix de 60 euros.
URL:https://scoutwaha.marche.be/event/camp-troupe/
LOCATION:Waha\, Place de l'Eglise\, 10\, Waha\, Luxembourg\, 6900\, Belgium
END:VEVENT
BEGIN:VEVENT
DTSTART;TZID=Europe/Brussels:20200516T090000
DTEND;TZID=Europe/Brussels:20200516T170000
DTSTAMP:20260422T040812
CREATED:20200111T130555Z
LAST-MODIFIED:20200111T130555Z
UID:219-1589619600-1589648400@scoutwaha.marche.be
SUMMARY:Journée d'Unité
DESCRIPTION:Journée complète à thème \nLieu à définir
URL:https://scoutwaha.marche.be/event/journee-dunite/
END:VEVENT
BEGIN:VEVENT
DTSTART;TZID=Europe/Brussels:20200502T140000
DTEND;TZID=Europe/Brussels:20200502T170000
DTSTAMP:20260422T040812
CREATED:20200111T130442Z
LAST-MODIFIED:20200111T130442Z
UID:217-1588428000-1588438800@scoutwaha.marche.be
SUMMARY:Réunion
DESCRIPTION:14h à 17h \nAnimations divers \nGoûter
URL:https://scoutwaha.marche.be/event/reunion-7/
LOCATION:Waha\, Place de l'Eglise\, 10\, Waha\, Luxembourg\, 6900\, Belgium
END:VEVENT
BEGIN:VEVENT
DTSTART;TZID=Europe/Brussels:20200418T140000
DTEND;TZID=Europe/Brussels:20200418T170000
DTSTAMP:20260422T040812
CREATED:20200111T130004Z
LAST-MODIFIED:20200111T130004Z
UID:215-1587218400-1587229200@scoutwaha.marche.be
SUMMARY:Réunion
DESCRIPTION:14h à 17h \nAnimations divers \nGoûter
URL:https://scoutwaha.marche.be/event/reunion-6/
LOCATION:Waha\, Place de l'Eglise\, 10\, Waha\, Luxembourg\, 6900\, Belgium
END:VEVENT
BEGIN:VEVENT
DTSTART;TZID=Europe/Brussels:20200403T180000
DTEND;TZID=Europe/Brussels:20200405T180000
DTSTAMP:20260422T040812
CREATED:20200111T125913Z
LAST-MODIFIED:20200111T125913Z
UID:213-1585936800-1586109600@scoutwaha.marche.be
SUMMARY:Hike de pâques
DESCRIPTION:Jeux et animations autour de pâques. \nClôture du hike par la traditionelle chasse aux oeufs. \n 
URL:https://scoutwaha.marche.be/event/hike-de-paques/
END:VEVENT
BEGIN:VEVENT
DTSTART;TZID=Europe/Brussels:20200321T140000
DTEND;TZID=Europe/Brussels:20200321T170000
DTSTAMP:20260422T040812
CREATED:20200111T125517Z
LAST-MODIFIED:20200111T125517Z
UID:209-1584799200-1584810000@scoutwaha.marche.be
SUMMARY:Réunion
DESCRIPTION:14h à 17h \nAnimations divers \nGoûter
URL:https://scoutwaha.marche.be/event/reunion-5/
LOCATION:Waha\, Place de l'Eglise\, 10\, Waha\, Luxembourg\, 6900\, Belgium
END:VEVENT
BEGIN:VEVENT
DTSTART;TZID=Europe/Brussels:20200314T180000
DTEND;TZID=Europe/Brussels:20200314T233000
DTSTAMP:20260422T040812
CREATED:20200111T125419Z
LAST-MODIFIED:20200304T150803Z
UID:207-1584208800-1584228600@scoutwaha.marche.be
SUMMARY:Fêtes d'Unité
DESCRIPTION:Spectacle\, repas \, soirée danssante \nInscrition : https://docs.google.com/forms/d/e/1FAIpQLSfMHOYerxfHhFvdou5b3fj2eZFa0qnqPDdkAdXm60jmqzGjcw/viewform?usp=sf_link \n 
URL:https://scoutwaha.marche.be/event/fetes-dunite/
LOCATION:Waha\, Place de l'Eglise\, 10\, Waha\, Luxembourg\, 6900\, Belgium
END:VEVENT
BEGIN:VEVENT
DTSTART;TZID=Europe/Brussels:20200313T180000
DTEND;TZID=Europe/Brussels:20200313T200000
DTSTAMP:20260422T040812
CREATED:20200304T150649Z
LAST-MODIFIED:20200304T150649Z
UID:241-1584122400-1584129600@scoutwaha.marche.be
SUMMARY:Répétitons spéctacle
DESCRIPTION:Baladin – 18h-20h \nMeute – 19h-20h \nTroupe – 19h-21h
URL:https://scoutwaha.marche.be/event/repetitons-spectacle/
END:VEVENT
BEGIN:VEVENT
DTSTART;TZID=Europe/Brussels:20200307T140000
DTEND;TZID=Europe/Brussels:20200307T170000
DTSTAMP:20260422T040812
CREATED:20200121T133813Z
LAST-MODIFIED:20200121T134759Z
UID:235-1583589600-1583600400@scoutwaha.marche.be
SUMMARY:Réunion - répétition
DESCRIPTION:Répétition spectacle
URL:https://scoutwaha.marche.be/event/reunion-repetition/
END:VEVENT
BEGIN:VEVENT
DTSTART;TZID=Europe/Brussels:20200306T180000
DTEND;TZID=Europe/Brussels:20200307T180000
DTSTAMP:20260422T040812
CREATED:20200121T134508Z
LAST-MODIFIED:20200304T150518Z
UID:237-1583517600-1583604000@scoutwaha.marche.be
SUMMARY:Hike Meute - preparation spectacle
DESCRIPTION:Préparation du spectacle du 14 \n\n\n\n\nChers parents\,\n\nCe week-end\, la meute est en Hike au local de l’Unité.\nCelui-ci commence le vendredi à 18h et ce terminera samedi à 17h.\nContrairement à ce que nous vous avions précédement communiqué\, il ne faut pas prévoir le souper des enfants.\nLe prix s’élèvera à 8€\n\nMerci de confirmer la venue de votre enfant à AKELA au 0477 748 367
URL:https://scoutwaha.marche.be/event/hike-meute-preparation-spectacle/
LOCATION:Waha\, Place de l'Eglise\, 10\, Waha\, Luxembourg\, 6900\, Belgium
END:VEVENT
BEGIN:VEVENT
DTSTART;TZID=Europe/Brussels:20200222T140000
DTEND;TZID=Europe/Brussels:20200222T170000
DTSTAMP:20260422T040812
CREATED:20200111T125104Z
LAST-MODIFIED:20200111T125104Z
UID:203-1582380000-1582390800@scoutwaha.marche.be
SUMMARY:Réunion
DESCRIPTION:14h à 17h \nAnimations divers \nGoûter \n 
URL:https://scoutwaha.marche.be/event/reunion-4/
LOCATION:Waha\, Place de l'Eglise\, 10\, Waha\, Luxembourg\, 6900\, Belgium
END:VEVENT
BEGIN:VEVENT
DTSTART;TZID=Europe/Brussels:20200208T140000
DTEND;TZID=Europe/Brussels:20200208T170000
DTSTAMP:20260422T040812
CREATED:20191214T144523Z
LAST-MODIFIED:20200121T134641Z
UID:194-1581170400-1581181200@scoutwaha.marche.be
SUMMARY:Réunion
DESCRIPTION:Au programme : activités\, animations\,…
URL:https://scoutwaha.marche.be/event/reunion-3/
END:VEVENT
BEGIN:VEVENT
DTSTART;TZID=Europe/Brussels:20200125T140000
DTEND;TZID=Europe/Brussels:20200125T170000
DTSTAMP:20260422T040812
CREATED:20191214T144441Z
LAST-MODIFIED:20200121T133645Z
UID:192-1579960800-1579971600@scoutwaha.marche.be
SUMMARY:Réunion
DESCRIPTION:  \nAu programme : activité\, animations\,…
URL:https://scoutwaha.marche.be/event/reunion-2/
LOCATION:Waha\, Place de l'Eglise\, 10\, Waha\, Luxembourg\, 6900\, Belgium
END:VEVENT
BEGIN:VEVENT
DTSTART;TZID=Europe/Brussels:20200111T140000
DTEND;TZID=Europe/Brussels:20200111T170000
DTSTAMP:20260422T040812
CREATED:20191214T144308Z
LAST-MODIFIED:20191214T144405Z
UID:189-1578751200-1578762000@scoutwaha.marche.be
SUMMARY:Réunion
DESCRIPTION:1er RDV de l’année \nAu programme : activité\, animations\,…
URL:https://scoutwaha.marche.be/event/reunion-de-noel/
LOCATION:Waha\, Place de l'Eglise\, 10\, Waha\, Luxembourg\, 6900\, Belgium
END:VEVENT
BEGIN:VEVENT
DTSTART;TZID=Europe/Brussels:20191228T140000
DTEND;TZID=Europe/Brussels:20191228T170000
DTSTAMP:20260422T040812
CREATED:20191214T144741Z
LAST-MODIFIED:20191214T144814Z
UID:196-1577541600-1577552400@scoutwaha.marche.be
SUMMARY:Réunion de fin d'année- RDV aux parents dés 16h30
DESCRIPTION:Activité et annimations de 14h à 16h30 \nRDV dés 16h30 aux parents pour un moement de partage 😉 \nEn dégustation : \n– Vin chaud \n– Jus de pomme chaud \n– Café \n– boudins \n  \nCollation des annimés : Buche de noël
URL:https://scoutwaha.marche.be/event/reunion-de-fin-dannee/
LOCATION:Waha\, Place de l'Eglise\, 10\, Waha\, Luxembourg\, 6900\, Belgium
END:VEVENT
BEGIN:VEVENT
DTSTART;TZID=Europe/Brussels:20191214T080000
DTEND;TZID=Europe/Brussels:20191214T170000
DTSTAMP:20260422T040812
CREATED:20191214T144055Z
LAST-MODIFIED:20191214T144055Z
UID:187-1576310400-1576342800@scoutwaha.marche.be
SUMMARY:Réunion
DESCRIPTION:Réunion au Local de Waha
URL:https://scoutwaha.marche.be/event/reunion/
END:VEVENT
BEGIN:VEVENT
DTSTART;TZID=Europe/Brussels:20191130T090000
DTEND;TZID=Europe/Brussels:20191201T110000
DTSTAMP:20260422T040812
CREATED:20191029T193703Z
LAST-MODIFIED:20191107T101004Z
UID:170-1575104400-1575198000@scoutwaha.marche.be
SUMMARY:Hike St Nicolas
DESCRIPTION:Visite de Saint Nicolas \ninfos via  http://sh1.sendinblue.com/nc4g4rwnsc.html?t=1573121211
URL:https://scoutwaha.marche.be/event/hike-st-nicolas/
END:VEVENT
BEGIN:VEVENT
DTSTART;TZID=Europe/Brussels:20191116T140000
DTEND;TZID=Europe/Brussels:20191116T170000
DTSTAMP:20260422T040812
CREATED:20191029T193551Z
LAST-MODIFIED:20191029T193551Z
UID:168-1573912800-1573923600@scoutwaha.marche.be
SUMMARY:Réunion Baladin – Meute – Troupe
DESCRIPTION:Découvertes et Jeux
URL:https://scoutwaha.marche.be/event/reunion-baladin-meute-troupe-3/
LOCATION:Waha\, Place de l'Eglise\, 10\, Waha\, Luxembourg\, 6900\, Belgium
END:VEVENT
END:VCALENDAR