BEGIN:VCALENDAR
VERSION:2.0
PRODID:-//Scouts de l&#039;Unité Saint-Etienne de Waha - ECPv6.0.6.2//NONSGML v1.0//EN
CALSCALE:GREGORIAN
METHOD:PUBLISH
X-WR-CALNAME:Scouts de l&#039;Unité Saint-Etienne de Waha
X-ORIGINAL-URL:https://scoutwaha.marche.be
X-WR-CALDESC:Events for Scouts de l&#039;Unité Saint-Etienne de Waha
REFRESH-INTERVAL;VALUE=DURATION:PT1H
X-Robots-Tag:noindex
X-PUBLISHED-TTL:PT1H
BEGIN:VTIMEZONE
TZID:Europe/Brussels
BEGIN:DAYLIGHT
TZOFFSETFROM:+0100
TZOFFSETTO:+0200
TZNAME:CEST
DTSTART:20190331T010000
END:DAYLIGHT
BEGIN:STANDARD
TZOFFSETFROM:+0200
TZOFFSETTO:+0100
TZNAME:CET
DTSTART:20191027T010000
END:STANDARD
END:VTIMEZONE
BEGIN:VEVENT
DTSTART;TZID=Europe/Brussels:20190730T180000
DTEND;TZID=Europe/Brussels:20190730T200000
DTSTAMP:20260422T031158
CREATED:20190722T090646Z
LAST-MODIFIED:20190722T090646Z
UID:97-1564509600-1564516800@scoutwaha.marche.be
SUMMARY:Chargement camion et matériel camp
DESCRIPTION:RDV à 18h au local de Wergifosse
URL:https://scoutwaha.marche.be/event/chargement-camion-et-materiel-camp/
LOCATION:Luxembourg
END:VEVENT
END:VCALENDAR