BEGIN:VCALENDAR
VERSION:2.0
PRODID:-//Scouts de l&#039;Unité Saint-Etienne de Waha - ECPv6.0.6.2//NONSGML v1.0//EN
CALSCALE:GREGORIAN
METHOD:PUBLISH
X-WR-CALNAME:Scouts de l&#039;Unité Saint-Etienne de Waha
X-ORIGINAL-URL:https://scoutwaha.marche.be
X-WR-CALDESC:Events for Scouts de l&#039;Unité Saint-Etienne de Waha
REFRESH-INTERVAL;VALUE=DURATION:PT1H
X-Robots-Tag:noindex
X-PUBLISHED-TTL:PT1H
BEGIN:VTIMEZONE
TZID:Europe/Brussels
BEGIN:DAYLIGHT
TZOFFSETFROM:+0100
TZOFFSETTO:+0200
TZNAME:CEST
DTSTART:20210328T010000
END:DAYLIGHT
BEGIN:STANDARD
TZOFFSETFROM:+0200
TZOFFSETTO:+0100
TZNAME:CET
DTSTART:20211031T010000
END:STANDARD
BEGIN:DAYLIGHT
TZOFFSETFROM:+0100
TZOFFSETTO:+0200
TZNAME:CEST
DTSTART:20220327T010000
END:DAYLIGHT
BEGIN:STANDARD
TZOFFSETFROM:+0200
TZOFFSETTO:+0100
TZNAME:CET
DTSTART:20221030T010000
END:STANDARD
END:VTIMEZONE
BEGIN:VEVENT
DTSTART;TZID=Europe/Brussels:20220430T140000
DTEND;TZID=Europe/Brussels:20220430T170000
DTSTAMP:20260421T045725
CREATED:20211011T194435Z
LAST-MODIFIED:20220211T130235Z
UID:372-1651327200-1651338000@scoutwaha.marche.be
SUMMARY:Réunion Troupe - Meute - Baladin
DESCRIPTION:De 14h à 17h activités variées …
URL:https://scoutwaha.marche.be/event/reunion-troupe-meute-baladin-3/
LOCATION:Luxembourg
END:VEVENT
BEGIN:VEVENT
DTSTART;TZID=Europe/Brussels:20220408T190000
DTEND;TZID=Europe/Brussels:20220410T110000
DTSTAMP:20260421T045725
CREATED:20211011T194357Z
LAST-MODIFIED:20220326T123630Z
UID:370-1649444400-1649588400@scoutwaha.marche.be
SUMMARY:Hike de pâques
DESCRIPTION:Hike de Pâques du 8 au 10 avril \nChers parents\, Chers animés\, \n  \nNous l’attendions avec impatience\, le voici\, le premier Hike de l’année 😉 \nLe HIKE de Pâques! Ce Hike est une bonne préparation au camp de cet été (marche\, jeux\, veillée\, révision des nœuds\,…). \n  \nIl aura lieu du 8 avril 19h au 10 avril 11h à la Ferme de la Folie \nBoeur 7 \n6662 BOEUR \nNous attirons votre attention sur le repas du vendredi soir = 1 pique-nique de la maison. \n  \nAu niveau du matériel pour tous : prévoir sac de couchage et lit de camp\, pour le reste\, nous vous invitons à vérifier la liste disponible sur le site. \n  \nLe prix est de 15€ et nous vous invitons à confirmer la présence de votre enfant par SMS au 0470/85 28 40 ou par mail ou via la fiche https://docs.google.com/forms/d/e/1FAIpQLSea7v2JQPyzc8YBmiaxLqfqRYH7AIgeofhGAiY3EkQ7i4QnOg/viewform?usp=sf_link \nsur le site pour ce 1er Avril au plus tard. \n  \nSi vous rencontrez une difficulté pour déposer votre enfant\, n’hésitez pas à contacter les animateurs de branches ou le staff pour l’organisation de covoiturage\, … \nAu plaisir\, \nLe Staff\,
URL:https://scoutwaha.marche.be/event/hike-de-paques-2/
LOCATION:Luxembourg
END:VEVENT
BEGIN:VEVENT
DTSTART;TZID=Europe/Brussels:20220326T140000
DTEND;TZID=Europe/Brussels:20220326T170000
DTSTAMP:20260421T045725
CREATED:20211011T194245Z
LAST-MODIFIED:20211011T194245Z
UID:368-1648303200-1648314000@scoutwaha.marche.be
SUMMARY:Réunion Troupe - Meute - Baladin
DESCRIPTION:De 14h à 17h activités variées …
URL:https://scoutwaha.marche.be/event/reunion-troupe-meute-baladin-2/
LOCATION:Luxembourg
END:VEVENT
BEGIN:VEVENT
DTSTART;TZID=Europe/Brussels:20220319T140000
DTEND;TZID=Europe/Brussels:20220319T170000
DTSTAMP:20260421T045725
CREATED:20211011T194211Z
LAST-MODIFIED:20220211T130141Z
UID:366-1647698400-1647709200@scoutwaha.marche.be
SUMMARY:Réunion Troupe - Meute - Baladin
DESCRIPTION:De 14h à 17h activités variées …
URL:https://scoutwaha.marche.be/event/reunion-troupe-meute-baladin/
LOCATION:Luxembourg
END:VEVENT
BEGIN:VEVENT
DTSTART;TZID=Europe/Brussels:20220305T183000
DTEND;TZID=Europe/Brussels:20220305T233000
DTSTAMP:20260421T045725
CREATED:20211011T194118Z
LAST-MODIFIED:20220223T204402Z
UID:364-1646505000-1646523000@scoutwaha.marche.be
SUMMARY:Fête d'unité
DESCRIPTION:Chers parents\, \nChers anciens\, \nChers amis\, \n\nL’unité scoute Saint Etienne de Waha\, a le grand honneur de vous inviter à sa fête d’unité sur le thème du CARNAVAL qui se déroulera ce samedi 5 mars à la Salle du Vieux Tilleul à Waha. \n\nCette année encore nous mettrons tout en œuvre pour que cette festivité reste unique en son genre et soit un moment riche en émotions\, en retrouvailles et en amitiés où se retrouvent les membres\, les parents\, les anciens et les amis de votre unité. \nAfin de préparer le fête\, nous demandons aux enfants de venir pour une répétition générale le 4 mars à la salle aux heures suivantes : Baladin et Meute de 17h30 à 18h30 (et troupe dès 17h jusqu’à la fête). \nAu Menus du 5 mars \nRepas : Trio de potée et saucisse // Option végétarienne + Dessert \nAdulte 12€ – Enfant 8€ \n\nVu le succès de cet événement et le nombre de places limitées mais surtout afin de satisfaire au mieux tous nos invités\, nous vous demandons de réserver par mail (scoutdewaha@gmail.com) ou tel au 0470/852840 et d’effectuer le paiement sur le compte BE22 732 6173 755 47 – Communication votre nom et nombre repas pour ce 2 mars. \n Inscription possible aussi \nhttps://docs.google.com/forms/d/e/1FAIpQLSefC3LtD-dg3JGg4EBQgcfwOBIKfSKPTjGc5gvWOyrSmAmrEg/viewform?usp=sf_link \nVu le thème et depuis le temps que nous vous attendions\, nous vous invitons à venir déguisé – Toutes personnes déguisées aura un apéro offert à son arrivée \nPoint moins réjouissant mais malheureusement obligatoire : CST ou test PCR négatif ou antigénique sera demandé à tous les participants de plus de 16 ans. \n\nDans l’attente de vous rencontrer nombreux lors de notre fête d’unité\, veuillez accepter\, chers Parents\, chers Anciens\, chers Amis\, nos meilleures salutations . \n\n                                                             L’Unité Scoute de Waha\, \n\nPS: Attention « Hike Troupe » vendredi 4 mars dès 19h voir info courrier ci-joint. \nDate des camps : Vendredi 15 au samedi 30 \nBaladin = Lundi 18 juillet au Dimanche 24 juillet / Meute = lundi 18 juillet au jeudi 28 juillet / Troupe= du 15 au 28 juillet et staff = vendredi 15 juillet au samedi 30 juillet.
URL:https://scoutwaha.marche.be/event/fete-dunite/
LOCATION:Luxembourg
END:VEVENT
BEGIN:VEVENT
DTSTART;TZID=Europe/Brussels:20220304T190000
DTEND;TZID=Europe/Brussels:20220305T183000
DTSTAMP:20260421T045725
CREATED:20220223T204552Z
LAST-MODIFIED:20220223T204552Z
UID:391-1646420400-1646505000@scoutwaha.marche.be
SUMMARY:Hike Troupe
DESCRIPTION:Bonjour chers parents\,\nCela fait trop longtemps que nous n’avons pas eu de hike … Nous vous donnons donc rendez-vous le vendredi 04 mars à 19h pour débuter notre weekend\, qui se terminera le samedi 05 lors de la fête d’unité.\nNous avons décidé de démarrer le hike si tard afin de vous laisser la possibilité de manger avec vos enfants. Si vous n’avez pas le temps\, pas de soucis\, mettez-lui un pique – nique. Certains de nos animateurs n’auront pas mangé non plus . Concernant le déjeuner et le diner du lendemain\, nous le prenons évidemment en charge !\nRécapitulons :\n– Quand ? Hike d’une nuit\, du vendredi 04 /03 à 19h jusqu’au samedi 05/03 au commencement de la fête d’unité.\n– Où ? Au local\n– Prix ? 8 euros\n– Matériel ? Sac de couchage – lit de camp – sac à dos avec tout le nécessaire pour partir se balader – vêtements de rechange\, vêtements chaud et linge de nuit.\n– Pique-nique pour les enfants qui n’auront pas encore mangé le vendredi.\nNous vous demandons de confirmer la présence de votre enfant au plus tard le dimanche 27/02 au 0493/669157 (Watusi). Veuillez s’il vous plait prévenir par ce numéro seulement et non par mail ou autre. Si nous n’avons pas la confirmation de la présence de votre enfant\, nous nous devrons malheureusement de refuser la présence de votre enfant par principe d’organisation.\nNous avons hâte de pouvoir enfin reprendre les nuitées.\nSi vous avez la moindre question\, n’hésitez pas à me contacter\nWatusi\,
URL:https://scoutwaha.marche.be/event/hike-troupe-2/
LOCATION:Luxembourg
END:VEVENT
BEGIN:VEVENT
DTSTART;TZID=Europe/Brussels:20220212T140000
DTEND;TZID=Europe/Brussels:20220212T170000
DTSTAMP:20260421T045725
CREATED:20211011T193940Z
LAST-MODIFIED:20211011T193940Z
UID:360-1644674400-1644685200@scoutwaha.marche.be
SUMMARY:Réunion Troupe - Louveteau - Baladin
DESCRIPTION:De 14h à 17h activités variées …
URL:https://scoutwaha.marche.be/event/reunion-troupe-louveteau-baladin-5/
LOCATION:Luxembourg
END:VEVENT
BEGIN:VEVENT
DTSTART;TZID=Europe/Brussels:20220122T140000
DTEND;TZID=Europe/Brussels:20220122T170000
DTSTAMP:20260421T045725
CREATED:20211011T193852Z
LAST-MODIFIED:20211011T193852Z
UID:358-1642860000-1642870800@scoutwaha.marche.be
SUMMARY:Réunion Troupe - Louveteau - Baladin
DESCRIPTION:De 14h à 17h activités variées …
URL:https://scoutwaha.marche.be/event/reunion-troupe-louveteau-baladin-4/
LOCATION:Luxembourg
END:VEVENT
BEGIN:VEVENT
DTSTART;TZID=Europe/Brussels:20220108T140000
DTEND;TZID=Europe/Brussels:20220108T170000
DTSTAMP:20260421T045725
CREATED:20211011T193817Z
LAST-MODIFIED:20211011T193817Z
UID:356-1641650400-1641661200@scoutwaha.marche.be
SUMMARY:Réunion Troupe - Louveteau- Baladin
DESCRIPTION:De 14h à 17h activités variées …
URL:https://scoutwaha.marche.be/event/reunion-troupe-louveteau-baladin-3/
LOCATION:Luxembourg
END:VEVENT
BEGIN:VEVENT
DTSTART;TZID=Europe/Brussels:20211218T140000
DTEND;TZID=Europe/Brussels:20211218T163000
DTSTAMP:20260421T045725
CREATED:20211011T193731Z
LAST-MODIFIED:20211011T193731Z
UID:354-1639836000-1639845000@scoutwaha.marche.be
SUMMARY:Réunion de fin d'année
DESCRIPTION:Réunion habituelle suivie du traditionnel Vin Chaud \nVenez nous retrouver pour le vin chaud dès 16h
URL:https://scoutwaha.marche.be/event/reunion-de-fin-dannee-2/
LOCATION:Luxembourg
END:VEVENT
BEGIN:VEVENT
DTSTART;TZID=Europe/Brussels:20211204T100000
DTEND;TZID=Europe/Brussels:20211205T110000
DTSTAMP:20260421T045725
CREATED:20211011T193623Z
LAST-MODIFIED:20211011T193623Z
UID:352-1638612000-1638702000@scoutwaha.marche.be
SUMMARY:Hike
DESCRIPTION:Troupe – Louveteau et Baladin partent en hike
URL:https://scoutwaha.marche.be/event/hike/
LOCATION:Luxembourg
END:VEVENT
BEGIN:VEVENT
DTSTART;TZID=Europe/Brussels:20211127T140000
DTEND;TZID=Europe/Brussels:20211127T170000
DTSTAMP:20260421T045725
CREATED:20211011T193529Z
LAST-MODIFIED:20211011T193529Z
UID:350-1638021600-1638032400@scoutwaha.marche.be
SUMMARY:Réunion Troupe - Louveteau - Baladin
DESCRIPTION:De 14h à 17h activités variées …
URL:https://scoutwaha.marche.be/event/reunion-troupe-louveteau-baladin-2/
LOCATION:Luxembourg
END:VEVENT
BEGIN:VEVENT
DTSTART;TZID=Europe/Brussels:20211113T140000
DTEND;TZID=Europe/Brussels:20211113T170000
DTSTAMP:20260421T045725
CREATED:20211011T193447Z
LAST-MODIFIED:20211011T193447Z
UID:348-1636812000-1636822800@scoutwaha.marche.be
SUMMARY:Réunion Troupe - Louveteau - Baladin
DESCRIPTION:De 14h à 17h activités variées …
URL:https://scoutwaha.marche.be/event/reunion-troupe-louveteau-baladin/
LOCATION:Luxembourg
END:VEVENT
BEGIN:VEVENT
DTSTART;TZID=Europe/Brussels:20211030T140000
DTEND;TZID=Europe/Brussels:20211030T170000
DTSTAMP:20260421T045725
CREATED:20211011T193408Z
LAST-MODIFIED:20211011T193408Z
UID:346-1635602400-1635613200@scoutwaha.marche.be
SUMMARY:Reunion Baladin - Troupe
DESCRIPTION:De 14h à 17h activités variées … \n 
URL:https://scoutwaha.marche.be/event/reunion-baladin-troupe/
LOCATION:Luxembourg
END:VEVENT
BEGIN:VEVENT
DTSTART;TZID=Europe/Brussels:20211030T090000
DTEND;TZID=Europe/Brussels:20211031T110000
DTSTAMP:20260421T045725
CREATED:20211011T193255Z
LAST-MODIFIED:20211011T193255Z
UID:344-1635584400-1635678000@scoutwaha.marche.be
SUMMARY:Hike Meute - Louveteau
DESCRIPTION:Infos à venir
URL:https://scoutwaha.marche.be/event/hike-meute-louveteau/
LOCATION:Luxembourg
END:VEVENT
BEGIN:VEVENT
DTSTART;TZID=Europe/Brussels:20211023T090000
DTEND;TZID=Europe/Brussels:20211024T110000
DTSTAMP:20260421T045725
CREATED:20211011T193217Z
LAST-MODIFIED:20211020T093718Z
UID:342-1634979600-1635073200@scoutwaha.marche.be
SUMMARY:Hike Troupe
DESCRIPTION:Chers parents\, \nWatusi\, Ochotona et Shagya attendent leurs Troupiers le samedi 23 octobre pour le Hike de Halloween. \nAu programme : Marche à thème\, activités\, jeux de nuit et nuitée au local. \nRDV au local à 9h. Prévoir un pique-nique pour le samedi midi. \n Fin des activités le dimanche 24/10 à 11h.  \nLe Hike est à 10€ / enfant. \nMerci de confirmer la présence de votre enfant le plus tôt possible. \nBien à vous et merci pour votre confiance\, \nLes chefs Troupe
URL:https://scoutwaha.marche.be/event/hike-troupe/
LOCATION:Luxembourg
END:VEVENT
BEGIN:VEVENT
DTSTART;TZID=Europe/Brussels:20211016T140000
DTEND;TZID=Europe/Brussels:20211016T170000
DTSTAMP:20260421T045725
CREATED:20211011T192941Z
LAST-MODIFIED:20211011T192941Z
UID:340-1634392800-1634403600@scoutwaha.marche.be
SUMMARY:Réunion Meute / Troupe
DESCRIPTION:Réunion Habituelle de 14h a 17H
URL:https://scoutwaha.marche.be/event/reunion-meute-troupe/
LOCATION:Luxembourg
END:VEVENT
BEGIN:VEVENT
DTSTART;TZID=Europe/Brussels:20211016T140000
DTEND;TZID=Europe/Brussels:20211016T170000
DTSTAMP:20260421T045725
CREATED:20210823T102125Z
LAST-MODIFIED:20210823T102137Z
UID:328-1634392800-1634403600@scoutwaha.marche.be
SUMMARY:Réunion Baladin\, Meute\, Troupe
DESCRIPTION:
URL:https://scoutwaha.marche.be/event/reunion-baladin-meute-troupe-6/
LOCATION:Luxembourg
END:VEVENT
BEGIN:VEVENT
DTSTART;TZID=Europe/Brussels:20211002T140000
DTEND;TZID=Europe/Brussels:20211002T170000
DTSTAMP:20260421T045725
CREATED:20210823T102044Z
LAST-MODIFIED:20210823T102044Z
UID:326-1633183200-1633194000@scoutwaha.marche.be
SUMMARY:Réunion: Baladin\, Meute\, Troupe
DESCRIPTION:Début 14h – fin 17h
URL:https://scoutwaha.marche.be/event/reunion-baladin-meute-troupe-5/
LOCATION:Luxembourg
END:VEVENT
BEGIN:VEVENT
DTSTART;TZID=Europe/Brussels:20210918T140000
DTEND;TZID=Europe/Brussels:20210918T170000
DTSTAMP:20260421T045725
CREATED:20210823T101948Z
LAST-MODIFIED:20210823T101948Z
UID:324-1631973600-1631984400@scoutwaha.marche.be
SUMMARY:Réunion Baladin\, Meute\, Troupe
DESCRIPTION:Début 14h – fin des activités 17h
URL:https://scoutwaha.marche.be/event/reunion-baladin-meute-troupe-4/
LOCATION:Luxembourg
END:VEVENT
BEGIN:VEVENT
DTSTART;TZID=Europe/Brussels:20210904T140000
DTEND;TZID=Europe/Brussels:20210904T170000
DTSTAMP:20260421T045725
CREATED:20210823T101820Z
LAST-MODIFIED:20210823T101846Z
UID:321-1630764000-1630774800@scoutwaha.marche.be
SUMMARY:Réunion Baladin\, Meute et Troupe
DESCRIPTION:Accueil des enfants 14h – fin des activité 16h30 pour le passage de branche. \nRassemblement de fin à 17H \n \n 
URL:https://scoutwaha.marche.be/event/reunion-baladin-meute-et-troupe/
LOCATION:Waha\, Place de l'Eglise\, 10\, Waha\, Luxembourg\, 6900\, Belgium
END:VEVENT
BEGIN:VEVENT
DTSTART;TZID=Europe/Brussels:20210715T080000
DTEND;TZID=Europe/Brussels:20210731T170000
DTSTAMP:20260421T045725
CREATED:20210123T135126Z
LAST-MODIFIED:20210123T135126Z
UID:307-1626336000-1627750800@scoutwaha.marche.be
SUMMARY:CAMP 2021
DESCRIPTION:A définir
URL:https://scoutwaha.marche.be/event/camp-2021/
LOCATION:Luxembourg
END:VEVENT
BEGIN:VEVENT
DTSTART;TZID=Europe/Brussels:20210612T140000
DTEND;TZID=Europe/Brussels:20210612T170000
DTSTAMP:20260421T045725
CREATED:20210123T134930Z
LAST-MODIFIED:20210123T134930Z
UID:303-1623506400-1623517200@scoutwaha.marche.be
SUMMARY:Réunion baladin et meute
DESCRIPTION:14h à 17h Animations divers Goûte
URL:https://scoutwaha.marche.be/event/reunion-baladin-et-meute-5/
LOCATION:Waha\, Place de l'Eglise\, 10\, Waha\, Luxembourg\, 6900\, Belgium
END:VEVENT
BEGIN:VEVENT
DTSTART;TZID=Europe/Brussels:20210515T140000
DTEND;TZID=Europe/Brussels:20210515T170000
DTSTAMP:20260421T045725
CREATED:20210123T135043Z
LAST-MODIFIED:20210123T135043Z
UID:305-1621087200-1621098000@scoutwaha.marche.be
SUMMARY:Réunion Baladin et Meute
DESCRIPTION:14h à 17h Animations divers Goûte
URL:https://scoutwaha.marche.be/event/reunion-baladin-et-meute-6/
LOCATION:Luxembourg
END:VEVENT
BEGIN:VEVENT
DTSTART;TZID=Europe/Brussels:20210501T140000
DTEND;TZID=Europe/Brussels:20210501T170000
DTSTAMP:20260421T045725
CREATED:20210123T134822Z
LAST-MODIFIED:20210123T134959Z
UID:301-1619877600-1619888400@scoutwaha.marche.be
SUMMARY:réunion baladin et meute
DESCRIPTION:14h à 17h Animations divers Goûte
URL:https://scoutwaha.marche.be/event/reunion-baladin-et-meute-4/
LOCATION:Waha\, Place de l'Eglise\, 10\, Waha\, Luxembourg\, 6900\, Belgium
END:VEVENT
BEGIN:VEVENT
DTSTART;TZID=Europe/Brussels:20210403T140000
DTEND;TZID=Europe/Brussels:20210403T170000
DTSTAMP:20260421T045725
CREATED:20210123T134649Z
LAST-MODIFIED:20210123T134724Z
UID:298-1617458400-1617469200@scoutwaha.marche.be
SUMMARY:réunion baladin et meute
DESCRIPTION:14h à 17h Animations divers Goûté
URL:https://scoutwaha.marche.be/event/reunion-baladin-et-meute-3/
LOCATION:Waha\, Place de l'Eglise\, 10\, Waha\, Luxembourg\, 6900\, Belgium
END:VEVENT
BEGIN:VEVENT
DTSTART;TZID=Europe/Brussels:20210320T140000
DTEND;TZID=Europe/Brussels:20210320T170000
DTSTAMP:20260421T045725
CREATED:20210123T134508Z
LAST-MODIFIED:20210123T134508Z
UID:296-1616248800-1616259600@scoutwaha.marche.be
SUMMARY:Réunion Baladin & Meute
DESCRIPTION:14h à 17h Animations divers Goûte
URL:https://scoutwaha.marche.be/event/reunion-baladin-meute-2/
LOCATION:Luxembourg
END:VEVENT
BEGIN:VEVENT
DTSTART;TZID=Europe/Brussels:20210306T140000
DTEND;TZID=Europe/Brussels:20210306T170000
DTSTAMP:20260421T045725
CREATED:20210123T134415Z
LAST-MODIFIED:20210123T134415Z
UID:294-1615039200-1615050000@scoutwaha.marche.be
SUMMARY:Réunion baladin et Meute
DESCRIPTION:14h à 17h Animations divers Goûte
URL:https://scoutwaha.marche.be/event/reunion-baladin-et-meute-2/
LOCATION:Waha\, Place de l'Eglise\, 10\, Waha\, Luxembourg\, 6900\, Belgium
END:VEVENT
BEGIN:VEVENT
DTSTART;TZID=Europe/Brussels:20210220T140000
DTEND;TZID=Europe/Brussels:20210220T170000
DTSTAMP:20260421T045725
CREATED:20210123T134315Z
LAST-MODIFIED:20210123T134542Z
UID:292-1613829600-1613840400@scoutwaha.marche.be
SUMMARY:Réunion baladin et meute
DESCRIPTION:14h à 17h Animations divers Goûte
URL:https://scoutwaha.marche.be/event/reunion-baladin-et-meute/
LOCATION:Waha\, Place de l'Eglise\, 10\, Waha\, Luxembourg\, 6900\, Belgium
END:VEVENT
BEGIN:VEVENT
DTSTART;TZID=Europe/Brussels:20210206T140000
DTEND;TZID=Europe/Brussels:20210206T170000
DTSTAMP:20260421T045725
CREATED:20210123T134216Z
LAST-MODIFIED:20210123T134224Z
UID:290-1612620000-1612630800@scoutwaha.marche.be
SUMMARY:Réunion baladin & meute
DESCRIPTION:14h à 17h Animations divers Goûte
URL:https://scoutwaha.marche.be/event/reunion-baladin-meute/
LOCATION:Waha\, Place de l'Eglise\, 10\, Waha\, Luxembourg\, 6900\, Belgium
END:VEVENT
END:VCALENDAR