BEGIN:VCALENDAR
VERSION:2.0
PRODID:-//Scouts de l&#039;Unité Saint-Etienne de Waha - ECPv6.0.6.2//NONSGML v1.0//EN
CALSCALE:GREGORIAN
METHOD:PUBLISH
X-WR-CALNAME:Scouts de l&#039;Unité Saint-Etienne de Waha
X-ORIGINAL-URL:https://scoutwaha.marche.be
X-WR-CALDESC:Events for Scouts de l&#039;Unité Saint-Etienne de Waha
REFRESH-INTERVAL;VALUE=DURATION:PT1H
X-Robots-Tag:noindex
X-PUBLISHED-TTL:PT1H
BEGIN:VTIMEZONE
TZID:Europe/Brussels
BEGIN:DAYLIGHT
TZOFFSETFROM:+0100
TZOFFSETTO:+0200
TZNAME:CEST
DTSTART:20240331T010000
END:DAYLIGHT
BEGIN:STANDARD
TZOFFSETFROM:+0200
TZOFFSETTO:+0100
TZNAME:CET
DTSTART:20241027T010000
END:STANDARD
END:VTIMEZONE
BEGIN:VEVENT
DTSTART;TZID=Europe/Brussels:20241012T100000
DTEND;TZID=Europe/Brussels:20241013T110000
DTSTAMP:20260423T020014
CREATED:20190831T145417Z
LAST-MODIFIED:20240827T052937Z
UID:141-1728727200-1728817200@scoutwaha.marche.be
SUMMARY:Hike Halloween Meute
DESCRIPTION:Jeux de nuits\, activités déguisées\,… nuitée au local
URL:https://scoutwaha.marche.be/event/hike-halloween-meute/
LOCATION:Waha\, Place de l'Eglise\, 10\, Waha\, Luxembourg\, 6900\, Belgium
END:VEVENT
BEGIN:VEVENT
DTSTART;TZID=Europe/Brussels:20241012T140000
DTEND;TZID=Europe/Brussels:20241012T170000
DTSTAMP:20260423T020014
CREATED:20230817T112255Z
LAST-MODIFIED:20240827T052831Z
UID:552-1728741600-1728752400@scoutwaha.marche.be
SUMMARY:Réunion Baladin - Meute - Troupe
DESCRIPTION:Attention Hike Meute
URL:https://scoutwaha.marche.be/event/reunion-15/
LOCATION:Waha\, Place de l'Eglise\, 10\, Waha\, Luxembourg\, 6900\, Belgium
END:VEVENT
BEGIN:VEVENT
DTSTART;TZID=Europe/Brussels:20241025T180000
DTEND;TZID=Europe/Brussels:20241026T170000
DTSTAMP:20260423T020014
CREATED:20211011T150049Z
LAST-MODIFIED:20240827T053354Z
UID:338-1729879200-1729962000@scoutwaha.marche.be
SUMMARY:Hike Baladin
DESCRIPTION:Chers parents\, premier hike de l’année:\n\n« Le Hike Halloween ».\n\nConcrètement:\nRDV au local le 25 octobre à 18H\nFin du Hike le 26 octobre à 17H\nPrévoir un pique-nique pour le soir\nSac à dos et gourde\nCostume Halloween Bienvenu\nLit de camp\, sac de couchage\, doudou\, vêtement de nuit… (Liste sur le site).\n\nPrix du Hike = à confirmer
URL:https://scoutwaha.marche.be/event/hike-baladin/
LOCATION:Luxembourg
END:VEVENT
BEGIN:VEVENT
DTSTART;TZID=Europe/Brussels:20241026T090000
DTEND;TZID=Europe/Brussels:20241027T110000
DTSTAMP:20260423T020014
CREATED:20220824T123458Z
LAST-MODIFIED:20240827T053458Z
UID:468-1729933200-1730026800@scoutwaha.marche.be
SUMMARY:Hike Troupe
DESCRIPTION:Infos à venir
URL:https://scoutwaha.marche.be/event/hike-troupe-3/
LOCATION:Waha\, Place de l'Eglise\, 10\, Waha\, Luxembourg\, 6900\, Belgium
END:VEVENT
BEGIN:VEVENT
DTSTART;TZID=Europe/Brussels:20241026T140000
DTEND;TZID=Europe/Brussels:20241026T170000
DTSTAMP:20260423T020014
CREATED:20230817T112221Z
LAST-MODIFIED:20240827T053049Z
UID:550-1729951200-1729962000@scoutwaha.marche.be
SUMMARY:Reunion Meute
DESCRIPTION:Attention Hike Baladin et Troupe
URL:https://scoutwaha.marche.be/event/reunion-14/
LOCATION:Waha\, Place de l'Eglise\, 10\, Waha\, Luxembourg\, 6900\, Belgium
END:VEVENT
END:VCALENDAR