BEGIN:VCALENDAR
VERSION:2.0
PRODID:-//Scouts de l&#039;Unité Saint-Etienne de Waha - ECPv6.0.6.2//NONSGML v1.0//EN
CALSCALE:GREGORIAN
METHOD:PUBLISH
X-ORIGINAL-URL:https://scoutwaha.marche.be
X-WR-CALDESC:Events for Scouts de l&#039;Unité Saint-Etienne de Waha
REFRESH-INTERVAL;VALUE=DURATION:PT1H
X-Robots-Tag:noindex
X-PUBLISHED-TTL:PT1H
BEGIN:VTIMEZONE
TZID:Europe/Brussels
BEGIN:DAYLIGHT
TZOFFSETFROM:+0100
TZOFFSETTO:+0200
TZNAME:CEST
DTSTART:20250330T010000
END:DAYLIGHT
BEGIN:STANDARD
TZOFFSETFROM:+0200
TZOFFSETTO:+0100
TZNAME:CET
DTSTART:20251026T010000
END:STANDARD
END:VTIMEZONE
BEGIN:VEVENT
DTSTART;TZID=Europe/Brussels:20250411T100000
DTEND;TZID=Europe/Brussels:20250413T110000
DTSTAMP:20260422T162259
CREATED:20230822T200117Z
LAST-MODIFIED:20240827T054311Z
UID:586-1744365600-1744542000@scoutwaha.marche.be
SUMMARY:Hike de printemps
DESCRIPTION:Infos à venir
URL:https://scoutwaha.marche.be/event/hike-de-printemps-2/
LOCATION:Luxembourg
END:VEVENT
BEGIN:VEVENT
DTSTART;TZID=Europe/Brussels:20250426T140000
DTEND;TZID=Europe/Brussels:20250426T170000
DTSTAMP:20260422T162259
CREATED:20230822T200147Z
LAST-MODIFIED:20240827T054342Z
UID:588-1745676000-1745686800@scoutwaha.marche.be
SUMMARY:Réunion Baladin - Meute - Troupe
DESCRIPTION:
URL:https://scoutwaha.marche.be/event/reunion-baladin-meute-troupe-31/
LOCATION:Luxembourg
END:VEVENT
END:VCALENDAR